BEGIN:VCALENDAR
VERSION:2.0
PRODID:-//Prescott Park Arts Festival - ECPv6.15.20//NONSGML v1.0//EN
CALSCALE:GREGORIAN
METHOD:PUBLISH
X-WR-CALNAME:Prescott Park Arts Festival
X-ORIGINAL-URL:https://www.prescottpark.org
X-WR-CALDESC:Events for Prescott Park Arts Festival
REFRESH-INTERVAL;VALUE=DURATION:PT1H
X-Robots-Tag:noindex
X-PUBLISHED-TTL:PT1H
BEGIN:VTIMEZONE
TZID:America/New_York
BEGIN:DAYLIGHT
TZOFFSETFROM:-0500
TZOFFSETTO:-0400
TZNAME:EDT
DTSTART:20220313T070000
END:DAYLIGHT
BEGIN:STANDARD
TZOFFSETFROM:-0400
TZOFFSETTO:-0500
TZNAME:EST
DTSTART:20221106T060000
END:STANDARD
BEGIN:DAYLIGHT
TZOFFSETFROM:-0500
TZOFFSETTO:-0400
TZNAME:EDT
DTSTART:20230312T070000
END:DAYLIGHT
BEGIN:STANDARD
TZOFFSETFROM:-0400
TZOFFSETTO:-0500
TZNAME:EST
DTSTART:20231105T060000
END:STANDARD
BEGIN:DAYLIGHT
TZOFFSETFROM:-0500
TZOFFSETTO:-0400
TZNAME:EDT
DTSTART:20240310T070000
END:DAYLIGHT
BEGIN:STANDARD
TZOFFSETFROM:-0400
TZOFFSETTO:-0500
TZNAME:EST
DTSTART:20241103T060000
END:STANDARD
END:VTIMEZONE
BEGIN:VEVENT
DTSTART;TZID=America/New_York:20230701T203000
DTEND;TZID=America/New_York:20230701T203000
DTSTAMP:20260422T003624
CREATED:20230606T182310Z
LAST-MODIFIED:20230621T115653Z
UID:42517-1688243400-1688243400@www.prescottpark.org
SUMMARY:Top Gun: Maverick
DESCRIPTION:Top Gun: Maverick\nSaturday\, July 1 at Dusk \nRated PG-13 \n  \nFeel the need… The need for speed. \n  \nSet 30 years after its predecessor\, it follows Maverick’s return to the United States Navy Strike Fighter Tactics Instructor program (also known as U.S. Navy-Fighter Weapons School – “TOPGUN”)\, where he must confront his past as he trains a group of younger pilots\, among them the son of Maverick’s deceased best friend Lieutenant Nick “Goose” Bradshaw\, USN.
URL:https://www.prescottpark.org/event/top-gun-maverick
LOCATION:Prescott Park\, 105 Marcy St\, Portsmouth\, NH\, 03801\, United States
CATEGORIES:Movies
ATTACH;FMTTYPE=image/jpeg:https://www.prescottpark.org/wp-content/uploads/2023/06/PPAF_7-1_Top-Gun-Maverick-IG.jpg
END:VEVENT
END:VCALENDAR