BEGIN:VCALENDAR
VERSION:2.0
PRODID:-//Prescott Park Arts Festival - ECPv6.15.20//NONSGML v1.0//EN
CALSCALE:GREGORIAN
METHOD:PUBLISH
X-WR-CALNAME:Prescott Park Arts Festival
X-ORIGINAL-URL:https://www.prescottpark.org
X-WR-CALDESC:Events for Prescott Park Arts Festival
REFRESH-INTERVAL;VALUE=DURATION:PT1H
X-Robots-Tag:noindex
X-PUBLISHED-TTL:PT1H
BEGIN:VTIMEZONE
TZID:America/New_York
BEGIN:DAYLIGHT
TZOFFSETFROM:-0500
TZOFFSETTO:-0400
TZNAME:EDT
DTSTART:20220313T070000
END:DAYLIGHT
BEGIN:STANDARD
TZOFFSETFROM:-0400
TZOFFSETTO:-0500
TZNAME:EST
DTSTART:20221106T060000
END:STANDARD
BEGIN:DAYLIGHT
TZOFFSETFROM:-0500
TZOFFSETTO:-0400
TZNAME:EDT
DTSTART:20230312T070000
END:DAYLIGHT
BEGIN:STANDARD
TZOFFSETFROM:-0400
TZOFFSETTO:-0500
TZNAME:EST
DTSTART:20231105T060000
END:STANDARD
BEGIN:DAYLIGHT
TZOFFSETFROM:-0500
TZOFFSETTO:-0400
TZNAME:EDT
DTSTART:20240310T070000
END:DAYLIGHT
BEGIN:STANDARD
TZOFFSETFROM:-0400
TZOFFSETTO:-0500
TZNAME:EST
DTSTART:20241103T060000
END:STANDARD
END:VTIMEZONE
BEGIN:VEVENT
DTSTART;TZID=America/New_York:20230809T190000
DTEND;TZID=America/New_York:20230809T190000
DTSTAMP:20260422T020513
CREATED:20230418T172939Z
LAST-MODIFIED:20230705T181151Z
UID:39319-1691607600-1691607600@www.prescottpark.org
SUMMARY:The Heavy Heavy with Sara Schwab
DESCRIPTION:The Heavy Heavy create the kind of unfettered rock-and-roll that warps time and place\, immediately pulling the audience into a euphoric fugue state with its own sun-soaked atmosphere. Led by lifelong musicians Will Turner and Georgie Fuller\, the Brighton\, UK-based band began with a shared ambition of “making records that sound like our favorite records ever\,” and soon arrived at a reverb-drenched collision of psychedelia and blues\, acid rock and sunshine pop. As revealed on their gloriously hazy debut EP Life and Life Only\, The Heavy Heavy breathe an incandescent new energy into sounds from decades ago\, transcending eras with a hypnotic ease. \n \n\nwith Sara Schwab\nPicture this. A 10 year old redheaded girl is singing Bonnie Raitt to her family. Although she needs to be quiet as a service is happening in the family owned funeral home below her on the first floor. Nonetheless\, she drowns out “On Eagle’s Wings” with “Let’s Give them Something to Talk About”. Years later\, Sara is living in NYC as a Singer Songwriter writing Indie-Rock music with a Jazzy twist. She has played gigs at The Bitter End\, Pianos\, Rockwood Music Hall and more. Her original music has a unique sound that one can only describe as “melting butter” and her humorous yet honest lyrics cover topics like mental illness\, feminism and how Tom Hanks can do no wrong. She has an EP and several singles out on all streaming platforms\, and is currently in the studio recording new music. Come see Sara play live in NYC and stream her music anywhere you listen! Check back in to see if she is still talking in third person! \n \n \n\nReservations\nTable and blanket reservations are non-refundable\, but can be transferred to another available date in the 2023 season. \nPlease Note: General Admission Donations do not include reserved seating. This is a way to make your gate donation in advance. \nTable reservations seat four.  \nBlanket reservations are placed in the blankets-only area of lawn and do not allow for chair placement. \nSee you in the park!
URL:https://www.prescottpark.org/event/the-heavy-heavy
LOCATION:Prescott Park\, 105 Marcy St\, Portsmouth\, NH\, 03801\, United States
CATEGORIES:Concert Series
ATTACH;FMTTYPE=image/jpeg:https://www.prescottpark.org/wp-content/uploads/2023/04/PPAF_8-9_The-Heavy-Heavy-IG-1.jpg
END:VEVENT
END:VCALENDAR