BEGIN:VCALENDAR
VERSION:2.0
PRODID:-//Prescott Park Arts Festival - ECPv6.15.20//NONSGML v1.0//EN
CALSCALE:GREGORIAN
METHOD:PUBLISH
X-WR-CALNAME:Prescott Park Arts Festival
X-ORIGINAL-URL:https://www.prescottpark.org
X-WR-CALDESC:Events for Prescott Park Arts Festival
REFRESH-INTERVAL;VALUE=DURATION:PT1H
X-Robots-Tag:noindex
X-PUBLISHED-TTL:PT1H
BEGIN:VTIMEZONE
TZID:America/New_York
BEGIN:DAYLIGHT
TZOFFSETFROM:-0500
TZOFFSETTO:-0400
TZNAME:EDT
DTSTART:20220313T070000
END:DAYLIGHT
BEGIN:STANDARD
TZOFFSETFROM:-0400
TZOFFSETTO:-0500
TZNAME:EST
DTSTART:20221106T060000
END:STANDARD
BEGIN:DAYLIGHT
TZOFFSETFROM:-0500
TZOFFSETTO:-0400
TZNAME:EDT
DTSTART:20230312T070000
END:DAYLIGHT
BEGIN:STANDARD
TZOFFSETFROM:-0400
TZOFFSETTO:-0500
TZNAME:EST
DTSTART:20231105T060000
END:STANDARD
BEGIN:DAYLIGHT
TZOFFSETFROM:-0500
TZOFFSETTO:-0400
TZNAME:EDT
DTSTART:20240310T070000
END:DAYLIGHT
BEGIN:STANDARD
TZOFFSETFROM:-0400
TZOFFSETTO:-0500
TZNAME:EST
DTSTART:20241103T060000
END:STANDARD
END:VTIMEZONE
BEGIN:VEVENT
DTSTART;TZID=America/New_York:20230807T203000
DTEND;TZID=America/New_York:20230807T203000
DTSTAMP:20260422T002521
CREATED:20230606T184751Z
LAST-MODIFIED:20230724T143419Z
UID:42585-1691440200-1691440200@www.prescottpark.org
SUMMARY:Ratatouille
DESCRIPTION:Ratatouille\nMonday\, August 7 at Dusk \nRated G \n  \nHe’s dying to become a chef \n  \nA rat named Remy dreams of becoming a great French chef despite his family’s wishes and the obvious problem of being a rat in a decidedly rodent-phobic profession. When fate places Remy in the sewers of Paris\, he finds himself ideally situated beneath a restaurant made famous by his culinary hero\, Auguste Gusteau. Despite the apparent dangers of being an unlikely\, and certainly unwanted\, visitor in the kitchen of a fine French restaurant\, Remy’s passion for cooking soon sets into motion a hilarious and exciting rat race that turns the culinary world of Paris upside down.
URL:https://www.prescottpark.org/event/ratatouille
LOCATION:Prescott Park\, 105 Marcy St\, Portsmouth\, NH\, 03801\, United States
CATEGORIES:Movies
ATTACH;FMTTYPE=image/jpeg:https://www.prescottpark.org/wp-content/uploads/2023/06/19.jpg
END:VEVENT
END:VCALENDAR