BEGIN:VCALENDAR
VERSION:2.0
PRODID:-//Prescott Park Arts Festival - ECPv6.15.20//NONSGML v1.0//EN
CALSCALE:GREGORIAN
METHOD:PUBLISH
X-WR-CALNAME:Prescott Park Arts Festival
X-ORIGINAL-URL:https://www.prescottpark.org
X-WR-CALDESC:Events for Prescott Park Arts Festival
REFRESH-INTERVAL;VALUE=DURATION:PT1H
X-Robots-Tag:noindex
X-PUBLISHED-TTL:PT1H
BEGIN:VTIMEZONE
TZID:America/New_York
BEGIN:DAYLIGHT
TZOFFSETFROM:-0500
TZOFFSETTO:-0400
TZNAME:EDT
DTSTART:20220313T070000
END:DAYLIGHT
BEGIN:STANDARD
TZOFFSETFROM:-0400
TZOFFSETTO:-0500
TZNAME:EST
DTSTART:20221106T060000
END:STANDARD
BEGIN:DAYLIGHT
TZOFFSETFROM:-0500
TZOFFSETTO:-0400
TZNAME:EDT
DTSTART:20230312T070000
END:DAYLIGHT
BEGIN:STANDARD
TZOFFSETFROM:-0400
TZOFFSETTO:-0500
TZNAME:EST
DTSTART:20231105T060000
END:STANDARD
BEGIN:DAYLIGHT
TZOFFSETFROM:-0500
TZOFFSETTO:-0400
TZNAME:EDT
DTSTART:20240310T070000
END:DAYLIGHT
BEGIN:STANDARD
TZOFFSETFROM:-0400
TZOFFSETTO:-0500
TZNAME:EST
DTSTART:20241103T060000
END:STANDARD
END:VTIMEZONE
BEGIN:VEVENT
DTSTART;TZID=America/New_York:20230806T130000
DTEND;TZID=America/New_York:20230806T130000
DTSTAMP:20260422T034503
CREATED:20230321T175841Z
LAST-MODIFIED:20230622T153033Z
UID:38856-1691326800-1691326800@www.prescottpark.org
SUMMARY:Camp ENCORE! in Into the Woods Jr.
DESCRIPTION:Be careful what you wish for\, as Stephen Sondheim’s and James Lapine’s cockeyed fairytale comes to life in this adaptation of their groundbreaking\, Tony Award-winning musical.  Into the Woods JR. features all of your favorite characters — Cinderella\, Little Red Riding Hood\, Jack (and his beanstalk) and the Witch — in this lyrically rich retelling of classic Brothers Grimm fables.  \n  \nA new take on Stephen Sondheim’s and James Lapine’s groundbreaking musical fairytale about wishes and the choices we make. \nTeenaged performers\, artists\, and aspiring technicians from the Festival’s beloved educational program\, Camp ENCORE! come together to gain valuable teamwork skills\, experience theater arts\, and build confidence. Campers bolster their skills in dancing\, singing\, acting\, and performing musical theatre. Into the Woods Jr. is the culmination of this session with a fully staged public performance on the Arts Festival’s Wilcox Main Stage.  \nReservations\nTable and blanket reservations are non-refundable\, but can be transferred to another date in the 2023 season.  \nPlease note: General Admission Donations do not include reserved seating. This is a way to make your gate donation in advance. Table reservations seat four. Blanket reservations are placed in the blankets-only area of the lawn and do not allow for chair placement.
URL:https://www.prescottpark.org/event/into-the-woods-jr-2
LOCATION:Prescott Park\, 105 Marcy St\, Portsmouth\, NH\, 03801\, United States
CATEGORIES:Theatre
ATTACH;FMTTYPE=image/png:https://www.prescottpark.org/wp-content/uploads/2022/12/INTOTHEWOODS-JR_LOGO_BEVELSTACKED_4C.png
END:VEVENT
END:VCALENDAR